BEGIN:VCALENDAR
VERSION:2.0
PRODID:-//Herboristerie Pachamama Phyto - ECPv6.15.20//NONSGML v1.0//EN
CALSCALE:GREGORIAN
METHOD:PUBLISH
X-WR-CALNAME:Herboristerie Pachamama Phyto
X-ORIGINAL-URL:https://pachamama-phyto.fr
X-WR-CALDESC:Évènements pour Herboristerie Pachamama Phyto
REFRESH-INTERVAL;VALUE=DURATION:PT1H
X-Robots-Tag:noindex
X-PUBLISHED-TTL:PT1H
BEGIN:VTIMEZONE
TZID:Europe/Paris
BEGIN:DAYLIGHT
TZOFFSETFROM:+0100
TZOFFSETTO:+0200
TZNAME:CEST
DTSTART:20230326T010000
END:DAYLIGHT
BEGIN:STANDARD
TZOFFSETFROM:+0200
TZOFFSETTO:+0100
TZNAME:CET
DTSTART:20231029T010000
END:STANDARD
BEGIN:DAYLIGHT
TZOFFSETFROM:+0100
TZOFFSETTO:+0200
TZNAME:CEST
DTSTART:20240331T010000
END:DAYLIGHT
BEGIN:STANDARD
TZOFFSETFROM:+0200
TZOFFSETTO:+0100
TZNAME:CET
DTSTART:20241027T010000
END:STANDARD
BEGIN:DAYLIGHT
TZOFFSETFROM:+0100
TZOFFSETTO:+0200
TZNAME:CEST
DTSTART:20250330T010000
END:DAYLIGHT
BEGIN:STANDARD
TZOFFSETFROM:+0200
TZOFFSETTO:+0100
TZNAME:CET
DTSTART:20251026T010000
END:STANDARD
END:VTIMEZONE
BEGIN:VEVENT
DTSTART;TZID=Europe/Paris:20240504T000000
DTEND;TZID=Europe/Paris:20240505T235900
DTSTAMP:20260422T181754
CREATED:20240222T110837Z
LAST-MODIFIED:20240222T121417Z
UID:10000015-1714780800-1714953540@pachamama-phyto.fr
SUMMARY:Immersion dans les plantes qui soignent ~ Ariège (09)
DESCRIPTION:Retraite de 2 jours : « Une immersion complète dans les plantes qui soignent ou comment entrer en amitié profonde avec le végétal»\n\nLes 04 et 05 mai 2024\nOù : À Sor (09800) dans les Pyrénées ariégeoises\, 1h30 au sud de Toulouse\n\nLes plantes nous offrent des ressources incroyables pour aider nos corps à retrouver leur équilibre mais elles nous accompagnent\, pour peu que nous leur faisions une place\, sur un chemin plus profond encore\, celui d’une grande reconnexion\, tant à la nature\, qu’à nous-même. C’est dans cette optique\, que je vous invite dans mon jardin\nethnobotanique pour une retraite de deux jours que j’ai voulu «complète »\, dans le sens d’aborder de façon très vaste le monde des « plantes qui soignent ». L’idée est de vous immerger au plus profond dans l’univers des simples et que vous repartiez avec quelque chose de plus dans votre vie\, non seulement au niveau du savoir que nous allons partager mais de l’expérience intime et profonde que vous allez vivre avec les plantes rencontrées pendant cette retraite. Une proposition qui s’adresse tant aux novices en la matière qu’à ceux qui ont envie d’aller plus loin dans leur exploration de ces mondes.\n\n✔︎ S’IMMERGER PAR LA CONTEMPLATION\, LA CONNAISSANCE ET LA RECONNAISSANCE DES PLANTES\n\nNous aborderons une vingtaine de plantes médicinales avec leur vertus principales\, tant à travers les plantes du jardin ethnobotanique qui jouxte la maison que dans une ballade sauvage ou nous verrons aussi tous les aspects de la cueillette responsable. On est souvent perdu devant la grande diversité de ce que l’on peut trouver dans les ouvrages ou sur le net concernant les nombreux bienfaits des plantes. Cette immersion sera l’occasion de faire un\npoint\, système par système du corps humain (respiratoire\, digestif\, endocrinien\, nerveux etc. ) des plantes « majeures » que vous apprendrez à identifier et peut-être… à aimer ? Nous aborderons également les secrets d’herboriste concernant le séchage des racines\, feuilles\, fleurs\, écorces et baies et observerons le cycle des plantes et ce qu’il peut nous apprendre sur nos propres cycles !\n\n✔︎ S’IMMERGER PAR LA NOURRITURE: MANGER DES FLEURS !\n\nLe mois de mai\, le beau mois de mai\, c’est le temps des fleurs. Nous allons apprendre à reconnaître et à cuisiner des fleurs comestibles\, autant celles que vous pouvez trouver dans des jardins que les sauvages. Je suis sure que vous n’avez jamais imaginer manger les fleurs que je vais vous proposer et encore moins leur étonnante saveur ! Un partage pour se faire confiance dans les cueillettes et pour apprendre au minimum 5 recettes de cuisine sauvage. Si le temps le permet\, je vous propose aussi d’apprendre à cuisiner sur le feu de bois les belles sauvages de cette fin de printemps. Tous les repas\, du petit déjeuner\, en passant par le goûter et le repas du soir seront largement composés de plantes sauvages ou de fleurs du jardin.\n\n✔︎ S’IMMERGER PAR UNE APPROCHE SENSIBLE À TRAVERS UNE HERBORISTERIE SENSORIELLE INTUITIVE\n\nDans la lignée de Matthew Wood et Eliot Cowan\, je vous propose quelques exercices pratiques que vous pourrez reproduire ensuite pour aborder l’aspect énergétique des plantes. En effet\, elles sont bien plus que la somme de leurs principes actifs : au-delà des propriétés biochimiques que nous allons par ailleurs aborder\, nous plongerons dans le monde de l’énergétique à travers une évocation de quelques quelques médecines traditionnelles (médecine chinoise et médecine chamanique d’Amérique ) et surtout nous verrons- comment entrer en relation avec cette part de notre héritage ancestral. Nous verrons comment développer notre relation directe (à travers nos sens) et s’entraîner à une réceptivité pour affiner nos ressentis. Êtes-vous prêt.e à entendre ce que les plantes pourraient\navoir à vous dire ?\n\n✔︎ S’IMMERGER EN APPRENANT À TRANSFORMER VOS CUEILLETTES ET CONCOCTER VOS PREPARATIONS À BASE DE PLANTES\n\nLoin des préparations complexes fabriquées en laboratoires\, nous verrons comment\, dans la continuité d’une herboristerie comme médecine du peuple\, nous pouvons fabriquer de merveilleux produits de façon très simple mais tout aussi efficace ! Nous verrons comment composer une élixir floral\, un macérat huileux\, un baume pour la peau et une alcoolature. Vous repartirez chez vous avec ces produits que l’on complétera par une surprise. C’est en faisant qu’on apprend !\n\nAnimé par Anne Mathon\n~ Herbaliste~\nAmoureuse de la nature et des plantes sauvages depuis l’enfance\, j’ai fait de cet amour mon métier\naprès avoir été formée au Québec dans une école d’herboristerie puis auprès de différents maîtres herboristes\, d’humaines et d’humains formidables et passionnés par cet univers immense des plantes sauvages. Cette formation s’est colorée de mes nombreux voyages et de milles rencontres à travers le monde qui m’ont transmis un savoir que je ne cesse jamais de faire grandir autour de l’usage des plantes médicinales. Après avoir vécu au Canada durant 10 ans\, je suis rentrée en France dans les Pyrénées ariégeoises pour m’installer en tant que productrice de plantes médicinales et formatrices\, à travers conférences\, ateliers et sorties en nature. Sensibiliser\, responsabiliser\, faire connaître et diffuser un savoir vieux comme l’humanité qui s’enrichit considérablement chaque jour des connaissances scientifiques\, m’apparaît comme un enjeu majeur face aux problématiques de santé et aux défis écologiques de notre modernité.
URL:https://pachamama-phyto.fr/detail-formation/immersion-dans-les-plantes-qui-soignent-ariege-09/
LOCATION:Dans une petite grange emménagée en plein cœur des Pyrénées ariégeoises dans la petite commune de Sor 09800.\, Sor\, 09800\, France
CATEGORIES:Herboristerie présentiel
ATTACH;FMTTYPE=image/jpeg:https://pachamama-phyto.fr/wp-content/uploads/2024/02/Form-Anne.jpeg
END:VEVENT
BEGIN:VEVENT
DTSTART;TZID=Europe/Paris:20240509T093000
DTEND;TZID=Europe/Paris:20240512T170000
DTSTAMP:20260422T181754
CREATED:20240206T171134Z
LAST-MODIFIED:20240208T145932Z
UID:10000012-1715247000-1715533200@pachamama-phyto.fr
SUMMARY:Formation herboristerie ~ Tarn (81)
DESCRIPTION:Votre autonomie dans l’usage des plantes médicinales\nUne formation intensive pour une grande autonomie dans l’usage des plantes médicinales\, pour une application immédiate \nSujets abordés\n✔︎ LA CUEILLETTE\n✔︎ LE SÉCHAGE\n✔︎ LE STOCKAGE DES PLANTES\n✔︎ LES DIFFÉRENTS MODES PRÉPARATOIRES\nInfusions\, décoctions\, macérations\, poudres \n✔︎ LES POSOLOGIES\nVous apprendrez les posologies respectives aux différents modes préparatoires \n✔︎ LES NOTIONS ALIMENTAIRES BASIQUES\nPrendre véritablement en considération les notions fondamentales \n✔︎ UNE APPROCHE HOLISTIQUE DE LA SANTÉ PAR LES PLANTES\nVous apprendrez à avoir une approche causale au-delà du fait de s’adresser simplement aux symptômes \nDes plantes pour les différents systèmes du corps humain\nVous apprendrez les plantes qui agissent sur les différents systèmes du corps humain et la manière dont elles agissent : \n✔︎ Le système digestif\n✔︎ Le système urinaire\n✔︎ Le système nerveux\n✔︎ Le système hormonal\n✔︎ Le système immunitaire\n✔︎ Le système circulatoire\n✔︎ Le système respiratoire\n✔︎ Le système articulaire\nUne formation complète\n✔︎ Une centaine de plantes avec leurs spécificités et leurs contre-indications.\n✔︎Les plantes adaptogènes \n✔︎Les IMAO (abréviation de inhibiteurs de la monoamine-oxydase) ✔︎Une liste de 21 plantes locales\, avec leurs vertus essentielles et les différentes combinaisons possibles pour aborder la majeure partie des problèmes de santé. \n✔︎COMMENT PRÉPARER Les plantes\n✔︎LES ASSOCIATIONS de plantes PERTINENTES\n✔︎LES ERREURS À NE PAS COMMETTRE\n✔︎La fabrication d’un baume\nqui sera remis à chaque participant(e) \nLA BALADE BOTANIQUE\nNous ferons une balade botanique\, pour voir les médicinales qui nous entourent et profiterons de ce temps\, pour faire une petite cueillette de plantes\, avec lesquelles nous fabriquerons un baume par la suite.\nDes temps d’échanges\, y compris en extérieur\, rythmeront ces trois journées.\nLa dimension humaine est très importante à mes yeux\, je vous propose donc une formation en présentiel\, basée sur la rencontre.\nNous pourrons ainsi tisser un lien étroit et resterons en contact\, si par la suite\, vous aviez besoin d’aide.\nA la fin de la transmission vous intégrerez un groupe privé Facebook créé à cet effet\, afin que nous puissions être toujours en contact si vous avez des questions quant à votre pratique. \nLa transmission de ma passion pour les plantes médicinales\nEn tant que fondateur de “Pachamama-Phyto”\, j’animerai moi-même cette formation en herboristerie. \nJe vous transmets un savoir qui vous permettra une grande autonomie en ayant une approche personnalisée et tout cela\, sans prendre de risque.\nJe partage la passion d’une vie pour les plantes médicinales.\nLes plantes médicinales sont un sujet sur lequel on peut se concentrer toute une vie.\nEt à mon sens\, celui ou celle qui dit “je sais” est celui ou celle qui a simplement arrêté d’apprendre.\nPar contre\, ce qui est certain\, c’est qu’en 2 jours\, je suis en mesure de vous transmettre les bases qui vous permettront une application immédiate en sortie de formation.\nJ’ai développé un principe de transmission qui rend ce savoir accessible à tous. \nEn résumé\, je vous transmets l’alphabet\, vous écrivez par la suite votre propre poème.\n“À chacun sa médecine\, à chacun sa magie.” \nJe suis à votre disposition pour toutes questions ou compléments d’informations. \nChristophe Adell / Phytothérapeute ~ Rebouteux
URL:https://pachamama-phyto.fr/detail-formation/formation-herboristerie-tarn-81/
LOCATION:Herboristerie Pachamama-phyto\, 12 route de Lavaur\, Damiatte\, Occitanie\, 81220\, France
CATEGORIES:Herboristerie présentiel
ATTACH;FMTTYPE=image/jpeg:https://pachamama-phyto.fr/wp-content/uploads/2024/01/mortar-of-healing-herbs-bottle-of-essential-oil-or-infusion-and-bunch-of-chamomile-herbal-medicine.jpg
END:VEVENT
BEGIN:VEVENT
DTSTART;TZID=Europe/Paris:20240524T093000
DTEND;TZID=Europe/Paris:20240526T170000
DTSTAMP:20260422T181754
CREATED:20240311T200709Z
LAST-MODIFIED:20240313T132850Z
UID:10000017-1716543000-1716742800@pachamama-phyto.fr
SUMMARY:Formation herboristerie ~ Charente-Maritime (17)
DESCRIPTION:Votre autonomie dans l’usage des plantes médicinales\nUne formation intensive pour une grande autonomie dans l’usage des plantes médicinales\, pour une application immédiate \nSujets abordés\n✔︎ LA CUEILLETTE\n✔︎ LE SÉCHAGE\n✔︎ LE STOCKAGE DES PLANTES\n✔︎ LES DIFFÉRENTS MODES PRÉPARATOIRES\nInfusions\, décoctions\, macérations\, poudres \n✔︎ LES POSOLOGIES\nVous apprendrez les posologies respectives aux différents modes préparatoires \n✔︎ LES NOTIONS ALIMENTAIRES BASIQUES\nPrendre véritablement en considération les notions fondamentales \n✔︎ UNE APPROCHE HOLISTIQUE DE LA SANTÉ PAR LES PLANTES\nVous apprendrez à avoir une approche causale au-delà du fait de s’adresser simplement aux symptômes \nDes plantes pour les différents systèmes du corps humain\nVous apprendrez les plantes qui agissent sur les différents systèmes du corps humain et la manière dont elles agissent : \n✔︎ Le système digestif\n✔︎ Le système urinaire\n✔︎ Le système nerveux\n✔︎ Le système hormonal\n✔︎ Le système immunitaire\n✔︎ Le système circulatoire\n✔︎ Le système respiratoire\n✔︎ Le système articulaire\nUne formation complète\n✔︎ Une centaine de plantes avec leurs spécificités et leurs contre-indications.\n✔︎Les plantes adaptogènes \n✔︎Les IMAO (abréviation de inhibiteurs de la monoamine-oxydase) ✔︎Une liste de 21 plantes locales\, avec leurs vertus essentielles et les différentes combinaisons possibles pour aborder la majeure partie des problèmes de santé. \n✔︎COMMENT PRÉPARER Les plantes\n✔︎LES ASSOCIATIONS de plantes PERTINENTES\n✔︎LES ERREURS À NE PAS COMMETTRE\n✔︎La fabrication d’un baume\nqui sera remis à chaque participant(e) \nLA BALADE BOTANIQUE\nNous ferons une balade botanique\, pour voir les médicinales qui nous entourent et profiterons de ce temps\, pour faire une petite cueillette de plantes\, avec lesquelles nous fabriquerons un baume par la suite.\nDes temps d’échanges\, y compris en extérieur\, rythmeront ces trois journées.\nLa dimension humaine est très importante à mes yeux\, je vous propose donc une formation en présentiel\, basée sur la rencontre.\nNous pourrons ainsi tisser un lien étroit et resterons en contact\, si par la suite\, vous aviez besoin d’aide.\nA la fin de la transmission vous intégrerez un groupe privé Facebook créé à cet effet\, afin que nous puissions être toujours en contact si vous avez des questions quant à votre pratique. \nLa transmission de ma passion pour les plantes médicinales\nEn tant que fondateur de “Pachamama-Phyto”\, j’animerai moi-même cette formation en herboristerie. \nJe vous transmets un savoir qui vous permettra une grande autonomie en ayant une approche personnalisée et tout cela\, sans prendre de risque.\nJe partage la passion d’une vie pour les plantes médicinales.\nLes plantes médicinales sont un sujet sur lequel on peut se concentrer toute une vie.\nEt à mon sens\, celui ou celle qui dit “je sais” est celui ou celle qui a simplement arrêté d’apprendre.\nPar contre\, ce qui est certain\, c’est qu’en 3 jours\, je suis en mesure de vous transmettre les bases qui vous permettront une application immédiate en sortie de formation.\nJ’ai développé un principe de transmission qui rend ce savoir accessible à tous. \nEn résumé\, je vous transmets l’alphabet\, vous écrivez par la suite votre propre poème.\n“À chacun sa médecine\, à chacun sa magie.” \nJe suis à votre disposition pour toutes questions ou compléments d’informations. \nChristophe Adell / Phytothérapeute ~ Rebouteux
URL:https://pachamama-phyto.fr/detail-formation/formation-herboristerie-charente-16/
LOCATION:Gîte de Montifaud\, 1 route de Montifaud\, Genouillac\, 17430
CATEGORIES:Herboristerie présentiel
ATTACH;FMTTYPE=image/png:https://pachamama-phyto.fr/wp-content/uploads/2024/03/Fo-Publication-Facebook.png
END:VEVENT
END:VCALENDAR